BEGIN:VCALENDAR
VERSION:2.0
PRODID:-//Wurzelspirit - ECPv6.15.20//NONSGML v1.0//EN
CALSCALE:GREGORIAN
METHOD:PUBLISH
X-ORIGINAL-URL:https://www.wurzelspirit.at
X-WR-CALDESC:Veranstaltungen für Wurzelspirit
REFRESH-INTERVAL;VALUE=DURATION:PT1H
X-Robots-Tag:noindex
X-PUBLISHED-TTL:PT1H
BEGIN:VTIMEZONE
TZID:Europe/Vienna
BEGIN:DAYLIGHT
TZOFFSETFROM:+0100
TZOFFSETTO:+0200
TZNAME:CEST
DTSTART:20220327T010000
END:DAYLIGHT
BEGIN:STANDARD
TZOFFSETFROM:+0200
TZOFFSETTO:+0100
TZNAME:CET
DTSTART:20221030T010000
END:STANDARD
BEGIN:DAYLIGHT
TZOFFSETFROM:+0100
TZOFFSETTO:+0200
TZNAME:CEST
DTSTART:20230326T010000
END:DAYLIGHT
BEGIN:STANDARD
TZOFFSETFROM:+0200
TZOFFSETTO:+0100
TZNAME:CET
DTSTART:20231029T010000
END:STANDARD
BEGIN:DAYLIGHT
TZOFFSETFROM:+0100
TZOFFSETTO:+0200
TZNAME:CEST
DTSTART:20240331T010000
END:DAYLIGHT
BEGIN:STANDARD
TZOFFSETFROM:+0200
TZOFFSETTO:+0100
TZNAME:CET
DTSTART:20241027T010000
END:STANDARD
END:VTIMEZONE
BEGIN:VEVENT
DTSTART;TZID=Europe/Vienna:20231201T160000
DTEND;TZID=Europe/Vienna:20231201T220000
DTSTAMP:20260424T152747
CREATED:20230307T074618Z
LAST-MODIFIED:20230309T065310Z
UID:3163-1701446400-1701468000@www.wurzelspirit.at
SUMMARY:10 Heilige Feuer
DESCRIPTION:10. Das Feuer der Schöpferkraft. \n 
URL:https://www.wurzelspirit.at/event/10-heilige-feuer-10/
LOCATION:BioHof Linden\, Linden 1\, 3331 Kematen\, Niederösterreich\, 3331\, Österreich
ORGANIZER;CN="Verein WurzelSpirit":MAILTO:verein@wurzelspirit.at
END:VEVENT
BEGIN:VEVENT
DTSTART;TZID=Europe/Vienna:20231216T100000
DTEND;TZID=Europe/Vienna:20231216T230000
DTSTAMP:20260424T152747
CREATED:20210315T074110Z
LAST-MODIFIED:20231208T091710Z
UID:2149-1702720800-1702767600@www.wurzelspirit.at
SUMMARY:Lichtzeremonie um die Wintersonnenwende
DESCRIPTION:
URL:https://www.wurzelspirit.at/event/wintersonnenwende-yule-feuerzeremonie/
LOCATION:BioHof Linden\, Linden 1\, 3331 Kematen\, Niederösterreich\, 3331\, Österreich
ORGANIZER;CN="Verein WurzelSpirit":MAILTO:verein@wurzelspirit.at
END:VEVENT
END:VCALENDAR