BEGIN:VCALENDAR
VERSION:2.0
PRODID:-//Wurzelspirit - ECPv6.15.20//NONSGML v1.0//EN
CALSCALE:GREGORIAN
METHOD:PUBLISH
X-WR-CALNAME:Wurzelspirit
X-ORIGINAL-URL:https://www.wurzelspirit.at
X-WR-CALDESC:Veranstaltungen für Wurzelspirit
REFRESH-INTERVAL;VALUE=DURATION:PT1H
X-Robots-Tag:noindex
X-PUBLISHED-TTL:PT1H
BEGIN:VTIMEZONE
TZID:Europe/Vienna
BEGIN:DAYLIGHT
TZOFFSETFROM:+0100
TZOFFSETTO:+0200
TZNAME:CEST
DTSTART:20250330T010000
END:DAYLIGHT
BEGIN:STANDARD
TZOFFSETFROM:+0200
TZOFFSETTO:+0100
TZNAME:CET
DTSTART:20251026T010000
END:STANDARD
BEGIN:DAYLIGHT
TZOFFSETFROM:+0100
TZOFFSETTO:+0200
TZNAME:CEST
DTSTART:20260329T010000
END:DAYLIGHT
BEGIN:STANDARD
TZOFFSETFROM:+0200
TZOFFSETTO:+0100
TZNAME:CET
DTSTART:20261025T010000
END:STANDARD
BEGIN:DAYLIGHT
TZOFFSETFROM:+0100
TZOFFSETTO:+0200
TZNAME:CEST
DTSTART:20270328T010000
END:DAYLIGHT
BEGIN:STANDARD
TZOFFSETFROM:+0200
TZOFFSETTO:+0100
TZNAME:CET
DTSTART:20271031T010000
END:STANDARD
END:VTIMEZONE
BEGIN:VEVENT
DTSTART;TZID=Europe/Vienna:20260425T100000
DTEND;TZID=Europe/Vienna:20260425T160000
DTSTAMP:20260425T011845
CREATED:20221208T083223Z
LAST-MODIFIED:20260318T072824Z
UID:2714-1777111200-1777132800@www.wurzelspirit.at
SUMMARY:Wirkshop Steinkreis
DESCRIPTION:Warum kann ein eigener Steinkreis für Dich und Dein Umfeld heilsam sein? Vortrag und praktische Übung. \n\nDieser Tag wird sicher spannend werden\, da wir uns dem Thema Steinkreis und einigen seiner Möglichkeiten in der Anwendung für Dich und Deine Umwelt\, vertiefen werden. \nDieser Tag wird auch einen praktischen Teil beinhalten. Wo ich Euch zeigen werde\, wie Ihr Euch selbst ganz einfach einen Steinkreis bauen und damit arbeiten könnt. Es braucht dazu keine speziellen Vorkenntnisse\, außer Eurer Neugier und Forschergeist. \nFür diejenigen\, die schon damit bewandert sind\, wie man sich von Steinen in der Natur rufen lässt\, können bereits 7 Steine je gut faustgroß mitnehmen. \nSo es das Wetter zulässt\, werden wir den praktischen Teil in unserem Steinkreis abhalten. \nFür die Teilnahme an diesem Wirkshop ersuche ich jene\, welche sich noch nicht per Mail angemeldet haben\, mir über diese Mail ihre Teilnahme zu bestätigen. \nDer Wirkbeitrag beträgt € 50\,00 hinzu kommt noch der Mitgliedsbeitrag für ein Jahr beim Verein Wurzelspirit € 20\,00. \nLäuft automatisch nach 1 Jahr aus. \nDiese Mitgliedschaft ermöglicht es auch\, am gemeinsamen Wirken mit unseren Steinkreisen\, welche kostenlos sind\, teilzunehmen. Es wird\, wenn gewünscht auf Whatsapp oder Telegramm eine Gruppe geben\, wo wir uns über unsere Erfahrungen austauschen können\, und wo ich Euch in Eurem Tun weiter hilfreich zur Seite stehen werde. \nDie Mitgliedschaft könnt ihr unter https://www.wurzelspirit.at/mitmachen/ ausfüllen\, ausdrucken und einscannen oder kopieren an verein@wurzelspirit.at schicken. Oder vor Ort bei mir abgeben. \nIhr könnt die Beträge gesamt überweisen\, aber im Buchungstext sollte Wirkbeitrag Steinkreis € 50\,00 und Mitgliedsbeitrag € 20\,00 getrennt angeführt sein. \nIBAN: AT32 3412 9000 0891 7809 \nFür Verpflegung zu Mittag\, sorgt jeder für sich selbst. Kaffee gibt’s vor Ort. \nWo: Biohof Linden 3331 Kematen an der Ybbs Linden 1 \nZeit: 9 Uhr 30 Ankunft \nDauer: 10 Uhr bis ca. 16 Uhr \nAnmeldeschluß und Einzahlung bis 3.4.2026 \nInhalt des Wirkshops: \nIch stelle euch die Arbeit mit Steinkreisen vor.\nWarum es wichtig für dich\, dein Umfeld und die Erde sein kann.\nIch gebe mein Wissen\, Inputs zum persönlichen Umgang und seine Wirkung an persönlichen Beispielen und praktischem Umsetzen weiter. \nWie wirkt ein Steinkreis.\nWarum.\nWas ist das Potential. \nWie groß sollte er sein. \nWelche Steine. \nWie finde ich die Steine. \nWas braucht es von mir persönlich. \nWie kann ich mein eigenes Kraftfeld installieren\, wie kann ich es multiplizieren und damit Orts- und Länderübergreifend manifestieren.\nSomit kann jede/r Einzelne für sich und im neuen Miteinander Neues verankern. \nWie kann ich mit Anderen über Steinkreis kommunizieren ohne Handy\, Computer und persönlichen Kontakt. \nAnschließend praktische Einführung. \nMitzubringen: \nSessel \nSitzunterlage \nSchreibzeug \nJause f. Mittag \nKristall wer hat \nSo freue ich mich auf Eure fixen Anmeldungen. \nLG Helmut Fabian \n \nWurzelSpirit \nVerein zur Entwicklung von Körper\, Geist und Seele zum Wohle von allem was Ist. \nPräsident: Helmut Fabian \nVereinssitz: \nPimesserweg 2/4 \n4201 Eidenberg \nZVR-Zahl: 1234428583 \nTel. +43 664 73365986 \nE-Mail: verein@wurzelspirit.at \nwww.wurzelspirit.at
URL:https://www.wurzelspirit.at/event/ostatra-fest/
LOCATION:BioHof Linden\, Linden 1\, 3331 Kematen\, Niederösterreich\, 3331\, Österreich
END:VEVENT
END:VCALENDAR