BEGIN:VCALENDAR
VERSION:2.0
PRODID:-//Wurzelspirit - ECPv6.15.20//NONSGML v1.0//EN
CALSCALE:GREGORIAN
METHOD:PUBLISH
X-WR-CALNAME:Wurzelspirit
X-ORIGINAL-URL:https://www.wurzelspirit.at
X-WR-CALDESC:Veranstaltungen für Wurzelspirit
REFRESH-INTERVAL;VALUE=DURATION:PT1H
X-Robots-Tag:noindex
X-PUBLISHED-TTL:PT1H
BEGIN:VTIMEZONE
TZID:Europe/Vienna
BEGIN:DAYLIGHT
TZOFFSETFROM:+0100
TZOFFSETTO:+0200
TZNAME:CEST
DTSTART:20220327T010000
END:DAYLIGHT
BEGIN:STANDARD
TZOFFSETFROM:+0200
TZOFFSETTO:+0100
TZNAME:CET
DTSTART:20221030T010000
END:STANDARD
BEGIN:DAYLIGHT
TZOFFSETFROM:+0100
TZOFFSETTO:+0200
TZNAME:CEST
DTSTART:20230326T010000
END:DAYLIGHT
BEGIN:STANDARD
TZOFFSETFROM:+0200
TZOFFSETTO:+0100
TZNAME:CET
DTSTART:20231029T010000
END:STANDARD
BEGIN:DAYLIGHT
TZOFFSETFROM:+0100
TZOFFSETTO:+0200
TZNAME:CEST
DTSTART:20240331T010000
END:DAYLIGHT
BEGIN:STANDARD
TZOFFSETFROM:+0200
TZOFFSETTO:+0100
TZNAME:CET
DTSTART:20241027T010000
END:STANDARD
END:VTIMEZONE
BEGIN:VEVENT
DTSTART;TZID=Europe/Vienna:20231124T183000
DTEND;TZID=Europe/Vienna:20231124T223000
DTSTAMP:20260424T180958
CREATED:20210314T175738Z
LAST-MODIFIED:20230124T160354Z
UID:2118-1700850600-1700865000@www.wurzelspirit.at
SUMMARY:Hirschpfeifenzeremonie
DESCRIPTION:Bist Du gerade in einer Neuorientierung? Am Beginn eines neuen Lebensabschnittes oder fühlst Du Dich gerade orientierungslos? Fragst Du Dich gerade\, was ist der Sinn Deines Lebens? Möchtest Du gerade für etwas Danke sagen\, oder für etwas oder jemanden bitten? Möchtest Du für ein neues Projekt\, den Segen Deiner Geistigen Welt erbitten? Oder fühlst Du Dich gerade nicht in Deiner Mitte\, fühlst dich zerrissen\, uneins mit Dir? Da kann Dir\, Dein Sein in einem Hl. Kreis\, bei einer Pfeifenzeremonie sehr hilfreich und heilend sein. Denn die Hirschpfeifenzeremonie\, ist eine wunderbare Möglichkeit\, wieder neu fokusiert\, in Deiner Mitte\, mit neuem Mut\, Zuversicht und Vertrauen im Leben zu stehen. \nWir freuen uns\, mit Dir im Hl. Kreis zu sitzen und gemeinsam zu beten und Zwiesprache zu halten mit den Spirits der Pfeife\, des Tabaks\, der Kräuter\, Vater Himmel\, Mutter Erde und unseren Ahnen.
URL:https://www.wurzelspirit.at/event/hirschpfeifenzeremonie-3/
LOCATION:Heidingerhof Wels\, Schafwiesenstr. 60\, Wels\, Oberösterreich\, 4600\, Österreich
ORGANIZER;CN="Verein WurzelSpirit":MAILTO:verein@wurzelspirit.at
END:VEVENT
END:VCALENDAR